Package: MCbiclust Version: 1.30.0 Command: /home/biocbuild/bbs-3.20-bioc/R/bin/R CMD INSTALL MCbiclust StartedAt: 2025-01-30 15:42:21 -0500 (Thu, 30 Jan 2025) EndedAt: 2025-01-30 15:42:46 -0500 (Thu, 30 Jan 2025) EllapsedTime: 25.0 seconds RetCode: 0 Status: OK