Package: MCbiclust Version: 1.30.0 Command: chmod a+r MCbiclust -R && F:\biocbuild\bbs-3.20-bioc\R\bin\R.exe CMD build --keep-empty-dirs --no-resave-data MCbiclust StartedAt: 2025-01-30 19:56:24 -0500 (Thu, 30 Jan 2025) EndedAt: 2025-01-30 19:59:00 -0500 (Thu, 30 Jan 2025) EllapsedTime: 156.3 seconds RetCode: 0 Status: OK PackageFile: MCbiclust_1.30.0.tar.gz PackageFileSize: 3.647 MiB