Package: MCbiclust Version: 1.30.0 Command: /home/biocbuild/R/R/bin/R CMD build --keep-empty-dirs --no-resave-data MCbiclust StartedAt: 2025-02-04 00:43:47 -0000 (Tue, 04 Feb 2025) EndedAt: 2025-02-04 00:45:16 -0000 (Tue, 04 Feb 2025) EllapsedTime: 89.0 seconds RetCode: 0 Status: OK PackageFile: MCbiclust_1.30.0.tar.gz PackageFileSize: 4.289 MiB