Package: MDTS
Version: 1.26.0
Command: /Library/Frameworks/R.framework/Resources/bin/R CMD INSTALL MDTS
StartedAt: 2024-11-19 15:18:26 -0500 (Tue, 19 Nov 2024)
EndedAt: 2024-11-19 15:19:01 -0500 (Tue, 19 Nov 2024)
EllapsedTime: 34.7 seconds
RetCode: 0
Status: OK