Package: MEAL Version: 1.36.0 Command: rm -rf MEAL.buildbin-libdir && mkdir MEAL.buildbin-libdir && /Users/biocbuild/BBS/utils/build-universal.sh MEAL_1.36.0.tar.gz /Library/Frameworks/R.framework/Resources/bin/R MEAL.buildbin-libdir StartedAt: 2025-02-05 16:31:39 -0500 (Wed, 05 Feb 2025) EndedAt: 2025-02-05 16:32:38 -0500 (Wed, 05 Feb 2025) EllapsedTime: 58.6 seconds RetCode: 0 Status: OK PackageFile: MEAL_1.36.0.tgz PackageFileSize: 2.177 MiB