Package: MEAL Version: 1.36.0 Command: /Library/Frameworks/R.framework/Resources/bin/R CMD check --install=check:MEAL.install-out.txt --library=/Library/Frameworks/R.framework/Resources/library --no-vignettes --timings MEAL_1.36.0.tar.gz StartedAt: 2025-02-05 00:51:30 -0500 (Wed, 05 Feb 2025) EndedAt: 2025-02-05 00:57:59 -0500 (Wed, 05 Feb 2025) EllapsedTime: 388.6 seconds RetCode: 0 Status: WARNINGS CheckDir: MEAL.Rcheck Warnings: 2