Package: MEAL Version: 1.36.0 Command: /Library/Frameworks/R.framework/Resources/bin/R CMD INSTALL MEAL StartedAt: 2025-02-03 18:14:21 -0500 (Mon, 03 Feb 2025) EndedAt: 2025-02-03 18:15:14 -0500 (Mon, 03 Feb 2025) EllapsedTime: 53.3 seconds RetCode: 0 Status: OK