Package: MEAL Version: 1.36.0 Command: /home/biocbuild/R/R/bin/R CMD check --install=check:MEAL.install-out.txt --library=/home/biocbuild/R/R/site-library --no-vignettes --timings MEAL_1.36.0.tar.gz StartedAt: 2024-11-20 09:33:15 -0000 (Wed, 20 Nov 2024) EndedAt: 2024-11-20 09:40:26 -0000 (Wed, 20 Nov 2024) EllapsedTime: 430.8 seconds RetCode: 0 Status: WARNINGS CheckDir: MEAL.Rcheck Warnings: 2