Package: MEAL Version: 1.36.0 Command: rm -rf MEAL.buildbin-libdir && mkdir MEAL.buildbin-libdir && /Users/biocbuild/BBS/utils/build-universal.sh MEAL_1.36.0.tar.gz /Library/Frameworks/R.framework/Resources/bin/R MEAL.buildbin-libdir StartedAt: 2025-02-04 13:21:17 -0500 (Tue, 04 Feb 2025) EndedAt: 2025-02-04 13:23:25 -0500 (Tue, 04 Feb 2025) EllapsedTime: 127.5 seconds RetCode: 0 Status: OK PackageFile: MEAL_1.36.0.tgz PackageFileSize: 2.141 MiB