Package: MEAL Version: 1.36.0 Command: F:\biocbuild\bbs-3.20-bioc\R\bin\R.exe CMD check --no-multiarch --install=check:MEAL.install-out.txt --library=F:\biocbuild\bbs-3.20-bioc\R\library --no-vignettes --timings MEAL_1.36.0.tar.gz StartedAt: 2025-02-04 03:26:59 -0500 (Tue, 04 Feb 2025) EndedAt: 2025-02-04 03:33:27 -0500 (Tue, 04 Feb 2025) EllapsedTime: 388.1 seconds RetCode: 0 Status: WARNINGS CheckDir: MEAL.Rcheck Warnings: 2