Package: MEAL Version: 1.36.0 Command: /home/biocbuild/R/R/bin/R CMD build --keep-empty-dirs --no-resave-data MEAL StartedAt: 2025-02-04 00:44:14 -0000 (Tue, 04 Feb 2025) EndedAt: 2025-02-04 00:52:48 -0000 (Tue, 04 Feb 2025) EllapsedTime: 514.2 seconds RetCode: 0 Status: OK PackageFile: MEAL_1.36.0.tar.gz PackageFileSize: 1.339 MiB