Package: MEAT Version: 1.18.0 Command: rm -rf MEAT.buildbin-libdir && mkdir MEAT.buildbin-libdir && /Users/biocbuild/BBS/utils/build-universal.sh MEAT_1.18.0.tar.gz /Library/Frameworks/R.framework/Resources/bin/R MEAT.buildbin-libdir StartedAt: 2025-02-04 13:21:22 -0500 (Tue, 04 Feb 2025) EndedAt: 2025-02-04 13:23:52 -0500 (Tue, 04 Feb 2025) EllapsedTime: 150.4 seconds RetCode: 0 Status: OK PackageFile: MEAT_1.18.0.tgz PackageFileSize: 5.71 MiB