Package: MEAT Version: 1.18.0 Command: /Library/Frameworks/R.framework/Resources/bin/R CMD INSTALL MEAT StartedAt: 2025-02-03 16:49:58 -0500 (Mon, 03 Feb 2025) EndedAt: 2025-02-03 16:51:44 -0500 (Mon, 03 Feb 2025) EllapsedTime: 105.8 seconds RetCode: 0 Status: OK