Package: MEAT Version: 1.18.0 Command: rm -rf MEAT.buildbin-libdir && mkdir MEAT.buildbin-libdir && F:\biocbuild\bbs-3.20-bioc\R\bin\R.exe CMD INSTALL --build --library=MEAT.buildbin-libdir MEAT_1.18.0.tar.gz StartedAt: 2025-02-04 08:52:04 -0500 (Tue, 04 Feb 2025) EndedAt: 2025-02-04 08:53:02 -0500 (Tue, 04 Feb 2025) EllapsedTime: 58.4 seconds RetCode: 0 Status: OK PackageFile: MEAT_1.18.0.zip PackageFileSize: 5.6 MiB