Package: MEAT Version: 1.18.0 Command: chmod a+r MEAT -R && F:\biocbuild\bbs-3.20-bioc\R\bin\R.exe CMD build --keep-empty-dirs --no-resave-data MEAT StartedAt: 2025-02-03 20:11:38 -0500 (Mon, 03 Feb 2025) EndedAt: 2025-02-03 20:13:29 -0500 (Mon, 03 Feb 2025) EllapsedTime: 110.9 seconds RetCode: 0 Status: OK PackageFile: MEAT_1.18.0.tar.gz PackageFileSize: 4.974 MiB