Package: MEAT Version: 1.18.0 Command: F:\biocbuild\bbs-3.20-bioc\R\bin\R.exe CMD INSTALL MEAT StartedAt: 2025-02-03 17:16:59 -0500 (Mon, 03 Feb 2025) EndedAt: 2025-02-03 17:17:49 -0500 (Mon, 03 Feb 2025) EllapsedTime: 49.4 seconds RetCode: 0 Status: OK