Package: MEAT Version: 1.18.0 Command: /home/biocbuild/R/R/bin/R CMD check --install=check:MEAT.install-out.txt --library=/home/biocbuild/R/R/site-library --no-vignettes --timings MEAT_1.18.0.tar.gz StartedAt: 2025-02-04 08:31:20 -0000 (Tue, 04 Feb 2025) EndedAt: 2025-02-04 08:38:30 -0000 (Tue, 04 Feb 2025) EllapsedTime: 429.6 seconds RetCode: 0 Status: WARNINGS CheckDir: MEAT.Rcheck Warnings: 1