Package: MEAT Version: 1.18.0 Command: /home/biocbuild/R/R/bin/R CMD INSTALL MEAT StartedAt: 2025-02-03 21:23:36 -0000 (Mon, 03 Feb 2025) EndedAt: 2025-02-03 21:24:40 -0000 (Mon, 03 Feb 2025) EllapsedTime: 63.7 seconds RetCode: 0 Status: OK