Package: MEDIPS Version: 1.58.0 Command: rm -rf MEDIPS.buildbin-libdir && mkdir MEDIPS.buildbin-libdir && /Users/biocbuild/BBS/utils/build-universal.sh MEDIPS_1.58.0.tar.gz /Library/Frameworks/R.framework/Resources/bin/R MEDIPS.buildbin-libdir StartedAt: 2025-02-05 16:32:12 -0500 (Wed, 05 Feb 2025) EndedAt: 2025-02-05 16:33:04 -0500 (Wed, 05 Feb 2025) EllapsedTime: 51.8 seconds RetCode: 0 Status: OK PackageFile: MEDIPS_1.58.0.tgz PackageFileSize: 746 KiB