Package: MEDIPS Version: 1.58.0 Command: /Library/Frameworks/R.framework/Resources/bin/R CMD build --keep-empty-dirs --no-resave-data MEDIPS StartedAt: 2025-02-04 02:43:20 -0500 (Tue, 04 Feb 2025) EndedAt: 2025-02-04 02:45:51 -0500 (Tue, 04 Feb 2025) EllapsedTime: 151.0 seconds RetCode: 0 Status: OK PackageFile: MEDIPS_1.58.0.tar.gz PackageFileSize: 322.8 KiB