Package: MEDIPS Version: 1.58.0 Command: rm -rf MEDIPS.buildbin-libdir && mkdir MEDIPS.buildbin-libdir && /Users/biocbuild/BBS/utils/build-universal.sh MEDIPS_1.58.0.tar.gz /Library/Frameworks/R.framework/Resources/bin/R MEDIPS.buildbin-libdir StartedAt: 2025-02-04 13:21:28 -0500 (Tue, 04 Feb 2025) EndedAt: 2025-02-04 13:23:31 -0500 (Tue, 04 Feb 2025) EllapsedTime: 123.0 seconds RetCode: 0 Status: OK PackageFile: MEDIPS_1.58.0.tgz PackageFileSize: 746.2 KiB