Package: MEDIPS Version: 1.58.0 Command: /Library/Frameworks/R.framework/Resources/bin/R CMD build --keep-empty-dirs --no-resave-data MEDIPS StartedAt: 2025-02-03 20:06:18 -0500 (Mon, 03 Feb 2025) EndedAt: 2025-02-03 20:09:51 -0500 (Mon, 03 Feb 2025) EllapsedTime: 212.5 seconds RetCode: 0 Status: OK PackageFile: MEDIPS_1.58.0.tar.gz PackageFileSize: 322.8 KiB