Package: MEDIPS Version: 1.58.0 Command: /Library/Frameworks/R.framework/Resources/bin/R CMD check --install=check:MEDIPS.install-out.txt --library=/Library/Frameworks/R.framework/Resources/library --no-vignettes --timings MEDIPS_1.58.0.tar.gz StartedAt: 2025-02-04 05:56:30 -0500 (Tue, 04 Feb 2025) EndedAt: 2025-02-04 06:07:15 -0500 (Tue, 04 Feb 2025) EllapsedTime: 645.8 seconds RetCode: 0 Status: OK CheckDir: MEDIPS.Rcheck Warnings: 0