Package: MEDIPS Version: 1.58.0 Command: /Library/Frameworks/R.framework/Resources/bin/R CMD INSTALL MEDIPS StartedAt: 2025-02-03 15:55:47 -0500 (Mon, 03 Feb 2025) EndedAt: 2025-02-03 15:57:11 -0500 (Mon, 03 Feb 2025) EllapsedTime: 84.7 seconds RetCode: 0 Status: OK