Package: MEDIPS Version: 1.58.0 Command: rm -rf MEDIPS.buildbin-libdir && mkdir MEDIPS.buildbin-libdir && F:\biocbuild\bbs-3.20-bioc\R\bin\R.exe CMD INSTALL --build --library=MEDIPS.buildbin-libdir MEDIPS_1.58.0.tar.gz StartedAt: 2025-02-04 08:52:07 -0500 (Tue, 04 Feb 2025) EndedAt: 2025-02-04 08:53:10 -0500 (Tue, 04 Feb 2025) EllapsedTime: 62.5 seconds RetCode: 0 Status: OK PackageFile: MEDIPS_1.58.0.zip PackageFileSize: 748.8 KiB