Package: MEIGOR Version: 1.40.0 Command: /home/biocbuild/bbs-3.20-bioc/R/bin/R CMD check --install=check:MEIGOR.install-out.txt --library=/home/biocbuild/bbs-3.20-bioc/R/site-library --timings MEIGOR_1.40.0.tar.gz StartedAt: 2025-02-03 23:52:32 -0500 (Mon, 03 Feb 2025) EndedAt: 2025-02-03 23:54:22 -0500 (Mon, 03 Feb 2025) EllapsedTime: 110.1 seconds RetCode: 0 Status: OK CheckDir: MEIGOR.Rcheck Warnings: 0