Package: MGFM Version: 1.40.0 Command: /Library/Frameworks/R.framework/Resources/bin/R CMD INSTALL MGFM StartedAt: 2025-02-17 15:46:28 -0500 (Mon, 17 Feb 2025) EndedAt: 2025-02-17 15:46:44 -0500 (Mon, 17 Feb 2025) EllapsedTime: 15.8 seconds RetCode: 0 Status: OK