Package: MGFM Version: 1.40.0 Command: /home/biocbuild/R/R/bin/R CMD INSTALL MGFM StartedAt: 2025-02-03 20:38:08 -0000 (Mon, 03 Feb 2025) EndedAt: 2025-02-03 20:38:25 -0000 (Mon, 03 Feb 2025) EllapsedTime: 16.2 seconds RetCode: 0 Status: OK