Package: MGnifyR Version: 1.2.0 Command: /Library/Frameworks/R.framework/Resources/bin/R CMD check --install=check:MGnifyR.install-out.txt --library=/Library/Frameworks/R.framework/Resources/library --no-vignettes --timings MGnifyR_1.2.0.tar.gz StartedAt: 2025-02-05 01:40:07 -0500 (Wed, 05 Feb 2025) EndedAt: 2025-02-05 01:52:47 -0500 (Wed, 05 Feb 2025) EllapsedTime: 760.5 seconds RetCode: 0 Status: OK CheckDir: MGnifyR.Rcheck Warnings: 0