Package: MGnifyR Version: 1.2.0 Command: /home/biocbuild/R/R/bin/R CMD build --keep-empty-dirs --no-resave-data MGnifyR StartedAt: 2025-02-04 00:55:45 -0000 (Tue, 04 Feb 2025) EndedAt: 2025-02-04 00:57:21 -0000 (Tue, 04 Feb 2025) EllapsedTime: 96.0 seconds RetCode: 0 Status: OK PackageFile: MGnifyR_1.2.0.tar.gz PackageFileSize: 4.046 MiB