Package: MGnifyR Version: 1.2.0 Command: /home/biocbuild/R/R/bin/R CMD INSTALL MGnifyR StartedAt: 2025-02-03 21:16:57 -0000 (Mon, 03 Feb 2025) EndedAt: 2025-02-03 21:17:49 -0000 (Mon, 03 Feb 2025) EllapsedTime: 51.3 seconds RetCode: 0 Status: OK