Package: MIRA Version: 1.28.0 Command: /Library/Frameworks/R.framework/Resources/bin/R CMD build --keep-empty-dirs --no-resave-data MIRA StartedAt: 2025-02-04 03:29:24 -0500 (Tue, 04 Feb 2025) EndedAt: 2025-02-04 03:30:44 -0500 (Tue, 04 Feb 2025) EllapsedTime: 80.6 seconds RetCode: 0 Status: OK PackageFile: MIRA_1.28.0.tar.gz PackageFileSize: 2.534 MiB