Package: MIRA Version: 1.28.0 Command: /Library/Frameworks/R.framework/Resources/bin/R CMD check --install=check:MIRA.install-out.txt --library=/Library/Frameworks/R.framework/Resources/library --no-vignettes --timings MIRA_1.28.0.tar.gz StartedAt: 2025-02-04 06:24:53 -0500 (Tue, 04 Feb 2025) EndedAt: 2025-02-04 06:34:40 -0500 (Tue, 04 Feb 2025) EllapsedTime: 587.4 seconds RetCode: 0 Status: OK CheckDir: MIRA.Rcheck Warnings: 0