Package: MIRA Version: 1.28.0 Command: /Library/Frameworks/R.framework/Resources/bin/R CMD INSTALL MIRA StartedAt: 2025-02-03 15:47:08 -0500 (Mon, 03 Feb 2025) EndedAt: 2025-02-03 15:48:29 -0500 (Mon, 03 Feb 2025) EllapsedTime: 81.4 seconds RetCode: 0 Status: OK