Package: MIRA Version: 1.28.0 Command: /home/biocbuild/bbs-3.20-bioc/R/bin/R CMD check --install=check:MIRA.install-out.txt --library=/home/biocbuild/bbs-3.20-bioc/R/site-library --timings MIRA_1.28.0.tar.gz StartedAt: 2025-02-04 00:10:15 -0500 (Tue, 04 Feb 2025) EndedAt: 2025-02-04 00:15:37 -0500 (Tue, 04 Feb 2025) EllapsedTime: 322.3 seconds RetCode: 0 Status: OK CheckDir: MIRA.Rcheck Warnings: 0