Package: MIRA Version: 1.28.0 Command: rm -rf MIRA.buildbin-libdir && mkdir MIRA.buildbin-libdir && F:\biocbuild\bbs-3.20-bioc\R\bin\R.exe CMD INSTALL --build --library=MIRA.buildbin-libdir MIRA_1.28.0.tar.gz StartedAt: 2025-02-04 08:56:21 -0500 (Tue, 04 Feb 2025) EndedAt: 2025-02-04 08:57:06 -0500 (Tue, 04 Feb 2025) EllapsedTime: 45.2 seconds RetCode: 0 Status: OK PackageFile: MIRA_1.28.0.zip PackageFileSize: 1.805 MiB