Package: MIRA Version: 1.28.0 Command: chmod a+r MIRA -R && F:\biocbuild\bbs-3.20-bioc\R\bin\R.exe CMD build --keep-empty-dirs --no-resave-data MIRA StartedAt: 2025-02-03 20:23:39 -0500 (Mon, 03 Feb 2025) EndedAt: 2025-02-03 20:25:00 -0500 (Mon, 03 Feb 2025) EllapsedTime: 80.4 seconds RetCode: 0 Status: OK PackageFile: MIRA_1.28.0.tar.gz PackageFileSize: 1.749 MiB