Package: MIRA Version: 1.28.0 Command: /home/biocbuild/R/R/bin/R CMD build --keep-empty-dirs --no-resave-data MIRA StartedAt: 2025-02-04 00:59:38 -0000 (Tue, 04 Feb 2025) EndedAt: 2025-02-04 01:00:55 -0000 (Tue, 04 Feb 2025) EllapsedTime: 77.0 seconds RetCode: 0 Status: OK PackageFile: MIRA_1.28.0.tar.gz PackageFileSize: 1.966 MiB