Package: MIRit Version: 1.2.0 Command: /Library/Frameworks/R.framework/Resources/bin/R CMD check --install=check:MIRit.install-out.txt --library=/Library/Frameworks/R.framework/Resources/library --no-vignettes --timings MIRit_1.2.0.tar.gz StartedAt: 2025-02-05 02:08:21 -0500 (Wed, 05 Feb 2025) EndedAt: 2025-02-05 02:12:56 -0500 (Wed, 05 Feb 2025) EllapsedTime: 275.6 seconds RetCode: 0 Status: OK CheckDir: MIRit.Rcheck Warnings: 0