Package: MIRit Version: 1.2.0 Command: /home/biocbuild/bbs-3.20-bioc/R/bin/R CMD check --install=check:MIRit.install-out.txt --library=/home/biocbuild/bbs-3.20-bioc/R/site-library --timings MIRit_1.2.0.tar.gz StartedAt: 2025-02-04 00:11:21 -0500 (Tue, 04 Feb 2025) EndedAt: 2025-02-04 00:15:32 -0500 (Tue, 04 Feb 2025) EllapsedTime: 251.2 seconds RetCode: 0 Status: OK CheckDir: MIRit.Rcheck Warnings: 0