Package: MIRit Version: 1.2.0 Command: /home/biocbuild/R/R/bin/R CMD build --keep-empty-dirs --no-resave-data MIRit StartedAt: 2025-02-04 01:01:03 -0000 (Tue, 04 Feb 2025) EndedAt: 2025-02-04 01:02:34 -0000 (Tue, 04 Feb 2025) EllapsedTime: 91.1 seconds RetCode: 0 Status: OK PackageFile: MIRit_1.2.0.tar.gz PackageFileSize: 2.326 MiB