Package: MIRit Version: 1.2.0 Command: /home/biocbuild/R/R/bin/R CMD INSTALL MIRit StartedAt: 2025-02-03 21:21:46 -0000 (Mon, 03 Feb 2025) EndedAt: 2025-02-03 21:22:39 -0000 (Mon, 03 Feb 2025) EllapsedTime: 53.0 seconds RetCode: 0 Status: OK