Package: MLInterfaces Version: 1.86.0 Command: /Library/Frameworks/R.framework/Resources/bin/R CMD build --keep-empty-dirs --no-resave-data MLInterfaces StartedAt: 2025-02-04 03:42:32 -0500 (Tue, 04 Feb 2025) EndedAt: 2025-02-04 03:44:07 -0500 (Tue, 04 Feb 2025) EllapsedTime: 94.4 seconds RetCode: 0 Status: OK PackageFile: MLInterfaces_1.86.0.tar.gz PackageFileSize: 2.806 MiB