Package: MLInterfaces Version: 1.86.0 Command: rm -rf MLInterfaces.buildbin-libdir && mkdir MLInterfaces.buildbin-libdir && /Users/biocbuild/BBS/utils/build-universal.sh MLInterfaces_1.86.0.tar.gz /Library/Frameworks/R.framework/Resources/bin/R MLInterfaces.buildbin-libdir StartedAt: 2025-02-04 13:27:56 -0500 (Tue, 04 Feb 2025) EndedAt: 2025-02-04 13:29:48 -0500 (Tue, 04 Feb 2025) EllapsedTime: 112.0 seconds RetCode: 0 Status: OK PackageFile: MLInterfaces_1.86.0.tgz PackageFileSize: 3.213 MiB