Package: MLInterfaces Version: 1.86.0 Command: /Library/Frameworks/R.framework/Resources/bin/R CMD INSTALL MLInterfaces StartedAt: 2025-02-03 16:22:09 -0500 (Mon, 03 Feb 2025) EndedAt: 2025-02-03 16:23:17 -0500 (Mon, 03 Feb 2025) EllapsedTime: 68.3 seconds RetCode: 0 Status: OK