Package: MLInterfaces Version: 1.86.0 Command: /home/biocbuild/bbs-3.20-bioc/R/bin/R CMD INSTALL MLInterfaces StartedAt: 2025-02-03 15:52:46 -0500 (Mon, 03 Feb 2025) EndedAt: 2025-02-03 15:53:19 -0500 (Mon, 03 Feb 2025) EllapsedTime: 33.0 seconds RetCode: 0 Status: OK