Package: MLInterfaces Version: 1.86.0 Command: /home/biocbuild/R/R/bin/R CMD build --keep-empty-dirs --no-resave-data MLInterfaces StartedAt: 2025-02-04 01:02:07 -0000 (Tue, 04 Feb 2025) EndedAt: 2025-02-04 01:03:32 -0000 (Tue, 04 Feb 2025) EllapsedTime: 84.0 seconds RetCode: 0 Status: OK PackageFile: MLInterfaces_1.86.0.tar.gz PackageFileSize: 1.66 MiB