Package: MLSeq Version: 2.24.0 Command: rm -rf MLSeq.buildbin-libdir && mkdir MLSeq.buildbin-libdir && /Users/biocbuild/BBS/utils/build-universal.sh MLSeq_2.24.0.tar.gz /Library/Frameworks/R.framework/Resources/bin/R MLSeq.buildbin-libdir StartedAt: 2025-02-05 16:42:48 -0500 (Wed, 05 Feb 2025) EndedAt: 2025-02-05 16:43:31 -0500 (Wed, 05 Feb 2025) EllapsedTime: 42.5 seconds RetCode: 0 Status: OK PackageFile: MLSeq_2.24.0.tgz PackageFileSize: 1.055 MiB