Package: MLSeq Version: 2.24.0 Command: /Library/Frameworks/R.framework/Resources/bin/R CMD check --install=check:MLSeq.install-out.txt --library=/Library/Frameworks/R.framework/Resources/library --no-vignettes --timings MLSeq_2.24.0.tar.gz StartedAt: 2025-02-05 02:19:04 -0500 (Wed, 05 Feb 2025) EndedAt: 2025-02-05 02:23:09 -0500 (Wed, 05 Feb 2025) EllapsedTime: 245.1 seconds RetCode: 0 Status: OK CheckDir: MLSeq.Rcheck Warnings: 0