Package: MLSeq Version: 2.24.0 Command: /Library/Frameworks/R.framework/Resources/bin/R CMD INSTALL MLSeq StartedAt: 2025-02-03 17:38:49 -0500 (Mon, 03 Feb 2025) EndedAt: 2025-02-03 17:39:27 -0500 (Mon, 03 Feb 2025) EllapsedTime: 38.0 seconds RetCode: 0 Status: OK